BEGIN:VCALENDAR
VERSION:2.0
PRODID:-//ThePepperCook - ECPv6.0.12//NONSGML v1.0//EN
CALSCALE:GREGORIAN
METHOD:PUBLISH
X-WR-CALNAME:ThePepperCook
X-ORIGINAL-URL:https://www.thepeppercook.com
X-WR-CALDESC:Events for ThePepperCook
REFRESH-INTERVAL;VALUE=DURATION:PT1H
X-Robots-Tag:noindex
X-PUBLISHED-TTL:PT1H
BEGIN:VTIMEZONE
TZID:UTC
BEGIN:STANDARD
TZOFFSETFROM:+0000
TZOFFSETTO:+0000
TZNAME:UTC
DTSTART:20200101T000000
END:STANDARD
END:VTIMEZONE
BEGIN:VEVENT
DTSTART;TZID=UTC:20200514T100000
DTEND;TZID=UTC:20200514T120000
DTSTAMP:20260422T062716
CREATED:20200217T012955Z
LAST-MODIFIED:20200508T044020Z
UID:1955-1589450400-1589457600@www.thepeppercook.com
SUMMARY:Seva Kitchen Community Cooking-Cancelled
DESCRIPTION:Seva Kitchen is cancelled this week due to the current situation of Covid19.
URL:https://www.thepeppercook.com/event/seva-kitchen-community-cooking-8/
LOCATION:The Pepper Cook Studio\, White Hall\, # 62/ 63\, 143\, August Kranti Marg\, Next to Shalimar Hotel\, Kemps Corner\,\, Mumbai\, 400036\, India
END:VEVENT
BEGIN:VEVENT
DTSTART;TZID=UTC:20200423T100000
DTEND;TZID=UTC:20200423T120000
DTSTAMP:20260422T062716
CREATED:20200217T034007Z
LAST-MODIFIED:20200414T231113Z
UID:1934-1587636000-1587643200@www.thepeppercook.com
SUMMARY:Seva Kitchen Community Cooking- Cancelled
DESCRIPTION:Seva Kitchen is cancelled this week due to the current situation of Covid19.
URL:https://www.thepeppercook.com/event/seva-kitchen-community-cooking-9/
END:VEVENT
BEGIN:VEVENT
DTSTART;TZID=UTC:20200416T100000
DTEND;TZID=UTC:20200416T120000
DTSTAMP:20260422T062716
CREATED:20200217T045621Z
LAST-MODIFIED:20200414T231013Z
UID:1967-1587031200-1587038400@www.thepeppercook.com
SUMMARY:Seva Kitchen Community Cooking- Cancelled
DESCRIPTION:Seva Kitchen is cancelled this week due to the current situation of Covid19.
URL:https://www.thepeppercook.com/event/seva-kitchen-community-cooking-12/
END:VEVENT
BEGIN:VEVENT
DTSTART;TZID=UTC:20200409T100000
DTEND;TZID=UTC:20200409T120000
DTSTAMP:20260422T062716
CREATED:20200217T043418Z
LAST-MODIFIED:20200325T020333Z
UID:1964-1586426400-1586433600@www.thepeppercook.com
SUMMARY:Seva Kitchen Community Cooking- Cancelled
DESCRIPTION:Seva Kitchen is cancelled this week due to the current situation of Covid19.
URL:https://www.thepeppercook.com/event/seva-kitchen-community-cooking-11/
LOCATION:The Pepper Cook Studio\, White Hall\, # 62/ 63\, 143\, August Kranti Marg\, Next to Shalimar Hotel\, Kemps Corner\,\, Mumbai\, 400036\, India
END:VEVENT
BEGIN:VEVENT
DTSTART;TZID=UTC:20200402T100000
DTEND;TZID=UTC:20200402T120000
DTSTAMP:20260422T062716
CREATED:20200217T042302Z
LAST-MODIFIED:20200325T014917Z
UID:1940-1585821600-1585828800@www.thepeppercook.com
SUMMARY:Seva Kitchen Community Cooking- Cancelled
DESCRIPTION:Seva Kitchen is cancelled this week due to the current situation of Covid19.
URL:https://www.thepeppercook.com/event/seva-kitchen-community-cooking-10/
LOCATION:The Pepper Cook Studio\, White Hall\, # 62/ 63\, 143\, August Kranti Marg\, Next to Shalimar Hotel\, Kemps Corner\,\, Mumbai\, 400036\, India
END:VEVENT
BEGIN:VEVENT
DTSTART;TZID=UTC:20200326T100000
DTEND;TZID=UTC:20200326T120000
DTSTAMP:20260422T062716
CREATED:20200217T002148Z
LAST-MODIFIED:20200325T014827Z
UID:1932-1585216800-1585224000@www.thepeppercook.com
SUMMARY:Seva Kitchen Community Cooking- Cancelled
DESCRIPTION:Seva Kitchen is cancelled this week due to the current situation of Covid19.
URL:https://www.thepeppercook.com/event/seva-kitchen-community-cooking-3/
END:VEVENT
BEGIN:VEVENT
DTSTART;TZID=UTC:20200319T100000
DTEND;TZID=UTC:20200319T120000
DTSTAMP:20260422T062716
CREATED:20200217T003351Z
LAST-MODIFIED:20200316T032947Z
UID:1929-1584612000-1584619200@www.thepeppercook.com
SUMMARY:Seva Kitchen Community Cooking - Cancelled
DESCRIPTION:Seva Kitchen is cancelled this week due to the current situation of Covid19.
URL:https://www.thepeppercook.com/event/seva-kitchen-community-cooking-7/
LOCATION:The Pepper Cook Studio\, White Hall\, # 62/ 63\, 143\, August Kranti Marg\, Next to Shalimar Hotel\, Kemps Corner\,\, Mumbai\, 400036\, India
END:VEVENT
BEGIN:VEVENT
DTSTART;TZID=UTC:20200305T100000
DTEND;TZID=UTC:20200305T120000
DTSTAMP:20260422T062716
CREATED:20200217T003224Z
LAST-MODIFIED:20200228T040118Z
UID:1927-1583402400-1583409600@www.thepeppercook.com
SUMMARY:Seva Kitchen Community Cooking
DESCRIPTION:Join us as we cook for the community and local children who live on the streets of Mumbai. Bring your contributions of rice\, moong dal\, oil and/or dishwashing detergent. \nToday’s Seva Kitchen is sponsored by Mitika Nanavati to celebrate her birthday.
URL:https://www.thepeppercook.com/event/seva-kitchen-community-cooking-6/
END:VEVENT
BEGIN:VEVENT
DTSTART;TZID=UTC:20200227T100000
DTEND;TZID=UTC:20200227T120000
DTSTAMP:20260422T062716
CREATED:20200217T003129Z
LAST-MODIFIED:20200217T034227Z
UID:1925-1582797600-1582804800@www.thepeppercook.com
SUMMARY:Seva Kitchen Community Cooking
DESCRIPTION:Join us as we cook for the community and local children who live on the streets of Mumbai. Bring your contributions of rice\, moong dal\, oil and/or dishwashing detergent. \n  \nToday’s Seva Kitchen is sponsored by Dini Thapar and Naina Kamani to celebrate Deepak Kamani’s Birthday.
URL:https://www.thepeppercook.com/event/seva-kitchen-community-cooking-5/
LOCATION:The Pepper Cook Studio\, White Hall\, # 62/ 63\, 143\, August Kranti Marg\, Next to Shalimar Hotel\, Kemps Corner\,\, Mumbai\, 400036\, India
END:VEVENT
BEGIN:VEVENT
DTSTART;TZID=UTC:20200220T100000
DTEND;TZID=UTC:20200220T120000
DTSTAMP:20260422T062716
CREATED:20200217T002833Z
LAST-MODIFIED:20200217T002833Z
UID:1920-1582192800-1582200000@www.thepeppercook.com
SUMMARY:Seva Kitchen Community Cooking
DESCRIPTION:Join us as we cook for the community and local children who live on the streets of Mumbai. Bring your contributions of rice\, moong dal\, oil and/or dishwashing detergent. \nToday’s Seva Kitchen is sponsored by Anika  and  Arjun Vinze to celebrate  Amita Vinze’s  Birthday .
URL:https://www.thepeppercook.com/event/seva-kitchen-community-cooking-4/
LOCATION:The Pepper Cook Studio\, White Hall\, # 62/ 63\, 143\, August Kranti Marg\, Next to Shalimar Hotel\, Kemps Corner\,\, Mumbai\, 400036\, India
END:VEVENT
BEGIN:VEVENT
DTSTART;TZID=UTC:20200213T100000
DTEND;TZID=UTC:20200213T120000
DTSTAMP:20260422T062716
CREATED:20200210T054133Z
LAST-MODIFIED:20200210T054220Z
UID:1884-1581588000-1581595200@www.thepeppercook.com
SUMMARY:Seva Kitchen Community Cooking
DESCRIPTION:Join us as we cook for the community and local children who live on the streets of Mumbai. Bring your contributions of rice\, moong dal\, oil and/or dishwashing detergent.
URL:https://www.thepeppercook.com/event/seva-kitchen-community-cooking-2/
LOCATION:The Pepper Cook Studio\, White Hall\, # 62/ 63\, 143\, August Kranti Marg\, Next to Shalimar Hotel\, Kemps Corner\,\, Mumbai\, 400036\, India
END:VEVENT
BEGIN:VEVENT
DTSTART;VALUE=DATE:20200123
DTEND;VALUE=DATE:20200124
DTSTAMP:20260422T062716
CREATED:20200111T044501Z
LAST-MODIFIED:20200111T044736Z
UID:1831-1579737600-1579823999@www.thepeppercook.com
SUMMARY:Seva Kitchen Community Cooking
DESCRIPTION:Seva Kitchen Community Cooking \n 
URL:https://www.thepeppercook.com/event/seva-kitchen-community-cooking/
LOCATION:The Pepper Cook Studio\, White Hall\, # 62/ 63\, 143\, August Kranti Marg\, Next to Shalimar Hotel\, Kemps Corner\,\, Mumbai\, 400036\, India
END:VEVENT
END:VCALENDAR